BEGIN:VCALENDAR
VERSION:2.0
PRODID:-//GV DECINES - ECPv6.15.13//NONSGML v1.0//EN
CALSCALE:GREGORIAN
METHOD:PUBLISH
X-WR-CALNAME:GV DECINES
X-ORIGINAL-URL:https://gvdecines.fr
X-WR-CALDESC:Évènements pour GV DECINES
REFRESH-INTERVAL;VALUE=DURATION:PT1H
X-Robots-Tag:noindex
X-PUBLISHED-TTL:PT1H
BEGIN:VTIMEZONE
TZID:Europe/Paris
BEGIN:DAYLIGHT
TZOFFSETFROM:+0100
TZOFFSETTO:+0200
TZNAME:CEST
DTSTART:20250330T010000
END:DAYLIGHT
BEGIN:STANDARD
TZOFFSETFROM:+0200
TZOFFSETTO:+0100
TZNAME:CET
DTSTART:20251026T010000
END:STANDARD
BEGIN:DAYLIGHT
TZOFFSETFROM:+0100
TZOFFSETTO:+0200
TZNAME:CEST
DTSTART:20260329T010000
END:DAYLIGHT
BEGIN:STANDARD
TZOFFSETFROM:+0200
TZOFFSETTO:+0100
TZNAME:CET
DTSTART:20261025T010000
END:STANDARD
BEGIN:DAYLIGHT
TZOFFSETFROM:+0100
TZOFFSETTO:+0200
TZNAME:CEST
DTSTART:20270328T010000
END:DAYLIGHT
BEGIN:STANDARD
TZOFFSETFROM:+0200
TZOFFSETTO:+0100
TZNAME:CET
DTSTART:20271031T010000
END:STANDARD
END:VTIMEZONE
BEGIN:VEVENT
DTSTART;TZID=Europe/Paris:20260329T100000
DTEND;TZID=Europe/Paris:20260329T110000
DTSTAMP:20260425T234809
CREATED:20260317T070933Z
LAST-MODIFIED:20260317T070933Z
UID:20129-1774778400-1774782000@gvdecines.fr
SUMMARY:Dimanche en forme : Zumba au Gymnase Zola
DESCRIPTION:Dimanche 29 mars :\nZumba avec la GV au Parc Urbain Raymond Troussier (repli au gymnase Zola en cas d’intempéries)
URL:https://gvdecines.fr/evenement/dimanche-en-forme-zumba-au-gymnase-zola/
LOCATION:Parc Troussier\, 36 Av. Jean Macé\, 69150 Décines-Charpieu\, Décines\, 69150\, France
END:VEVENT
END:VCALENDAR