BEGIN:VCALENDAR
VERSION:2.0
PRODID:-//GV DECINES - ECPv6.15.13//NONSGML v1.0//EN
CALSCALE:GREGORIAN
METHOD:PUBLISH
X-WR-CALNAME:GV DECINES
X-ORIGINAL-URL:https://gvdecines.fr
X-WR-CALDESC:Évènements pour GV DECINES
REFRESH-INTERVAL;VALUE=DURATION:PT1H
X-Robots-Tag:noindex
X-PUBLISHED-TTL:PT1H
BEGIN:VTIMEZONE
TZID:Europe/Paris
BEGIN:DAYLIGHT
TZOFFSETFROM:+0100
TZOFFSETTO:+0200
TZNAME:CEST
DTSTART:20240331T010000
END:DAYLIGHT
BEGIN:STANDARD
TZOFFSETFROM:+0200
TZOFFSETTO:+0100
TZNAME:CET
DTSTART:20241027T010000
END:STANDARD
BEGIN:DAYLIGHT
TZOFFSETFROM:+0100
TZOFFSETTO:+0200
TZNAME:CEST
DTSTART:20250330T010000
END:DAYLIGHT
BEGIN:STANDARD
TZOFFSETFROM:+0200
TZOFFSETTO:+0100
TZNAME:CET
DTSTART:20251026T010000
END:STANDARD
BEGIN:DAYLIGHT
TZOFFSETFROM:+0100
TZOFFSETTO:+0200
TZNAME:CEST
DTSTART:20260329T010000
END:DAYLIGHT
BEGIN:STANDARD
TZOFFSETFROM:+0200
TZOFFSETTO:+0100
TZNAME:CET
DTSTART:20261025T010000
END:STANDARD
END:VTIMEZONE
BEGIN:VEVENT
DTSTART;TZID=Europe/Paris:20251104T131500
DTEND;TZID=Europe/Paris:20251104T163000
DTSTAMP:20260424T073724
CREATED:20251029T080433Z
LAST-MODIFIED:20251029T080433Z
UID:19638-1762262100-1762273800@gvdecines.fr
SUMMARY:Balade :
DESCRIPTION:Inscriptions auprès d’Armandet Danielle par téléphone ou SMS au 07 72 44 47 58. \nCovoiturage : 2€ \nRendez-vous à 13h15 sur le parking de la place Henri Barbusse pour un départ à 13h30. \nCes balades sont organisées par Armand et Danielle Basso les mardis après-midi\, une fois par quinzaine. Elles durent environ 3 heures\, couvrent moins de 10 km et comportent peu ou pas de dénivelé. \nRemarque : Si vous n’avez pas marché depuis longtemps et que vous vous questionnez sur votre capacité à participer à une randonnée à la journée\, ces balades sont idéales pour évaluer votre niveau en début de saison. \n 
URL:https://gvdecines.fr/evenement/balade-4/
LOCATION:Parking Henri Barbusse\, Pl. Henri Barbusse\, Décines\, 69150\, France
CATEGORIES:Balades
END:VEVENT
BEGIN:VEVENT
DTSTART;TZID=Europe/Paris:20251104T140000
DTEND;TZID=Europe/Paris:20251104T153000
DTSTAMP:20260424T073724
CREATED:20251008T132453Z
LAST-MODIFIED:20251103T154836Z
UID:19493-1762264800-1762270200@gvdecines.fr
SUMMARY:Marche nordique du Mardi : parking du lac d'emprunt\, chemin du pont Mareau
DESCRIPTION:Rendez vous à 13h50 au point indiqué ci dessous. Le lieu est annoncé 15 jours à l’avance. \nLa séance dure environ une heure et demie\, de 14H00 à 15h30. \nElle commence par un échauffement et se termine par des étirements. \nLes bâtons peuvent être prêtés. \n[vc_row][vc_column][vc_column_text]Attention : En cas de crue\, le guet du Morlet qui permet de rejoindre les sites "Baraka" et "Pont de Miribel" depuis l’intérieur du parc peut être fermé.\nUn autre accès est possible par l'A46 direction Genève\, prendre la première sortie " Parc de Miribel" après la bifurcation.\n\nRenseignements en direct sur la page du grand parc : Carte des accès fermés du Grand Parc".[/vc_column_text][/vc_column][/vc_row]\n 
URL:https://gvdecines.fr/evenement/marche-nordique-du-mardi-lieu-a-definir/
LOCATION:Parking du lac d’Emprunt\, Parking du lac d'Emprunt\, Chemin du pont Mareau\, Meyzieu\, 69330\, France
CATEGORIES:Marche Nordique
END:VEVENT
BEGIN:VEVENT
DTSTART;TZID=Europe/Paris:20251106T140000
DTEND;TZID=Europe/Paris:20251106T153000
DTSTAMP:20260424T073724
CREATED:20251008T133146Z
LAST-MODIFIED:20251103T155446Z
UID:19501-1762437600-1762443000@gvdecines.fr
SUMMARY:Marche nordique du Jeudi: Parking du lac d'Emprunt
DESCRIPTION:Rendez vous à 13h50 au point indiqué ci dessous. Le lieu est annoncé 15 jours à l’avance. \nLa séance dure environ une heure et demie\, de 14H00 à 15h30. \nElle commence par un échauffement et se termine par des étirements. \nLes bâtons peuvent être prêtés. \n[vc_row][vc_column][vc_column_text]Attention : En cas de crue\, le guet du Morlet qui permet de rejoindre les sites "Baraka" et "Pont de Miribel" depuis l’intérieur du parc peut être fermé.\nUn autre accès est possible par l'A46 direction Genève\, prendre la première sortie " Parc de Miribel" après la bifurcation.\n\nRenseignements en direct sur la page du grand parc : Carte des accès fermés du Grand Parc".[/vc_column_text][/vc_column][/vc_row]\n 
URL:https://gvdecines.fr/evenement/marche-nordique-du-jeudi-lieu-a-definir/
LOCATION:Parking du lac d’Emprunt\, Parking du lac d'Emprunt\, Chemin du pont Mareau\, Meyzieu\, 69330\, France
CATEGORIES:Marche Nordique
END:VEVENT
BEGIN:VEVENT
DTSTART;TZID=Europe/Paris:20251113T140000
DTEND;TZID=Europe/Paris:20251113T153000
DTSTAMP:20260424T073724
CREATED:20251008T132453Z
LAST-MODIFIED:20251026T161756Z
UID:19495-1763042400-1763047800@gvdecines.fr
SUMMARY:Marche nordique du Jeudi : Parking du gravier blanc
DESCRIPTION:Rendez vous à 13h50 au point indiqué ci dessous. Le lieu est annoncé 15 jours à l’avance. \nLa séance dure environ une heure et demie\, de 14H00 à 15h30. \nElle commence par un échauffement et se termine par des étirements. \nLes bâtons peuvent être prêtés. \n[vc_row][vc_column][vc_column_text]Attention : En cas de crue\, le guet du Morlet qui permet de rejoindre les sites "Baraka" et "Pont de Miribel" depuis l’intérieur du parc peut être fermé.\nUn autre accès est possible par l'A46 direction Genève\, prendre la première sortie " Parc de Miribel" après la bifurcation.\n\nRenseignements en direct sur la page du grand parc : Carte des accès fermés du Grand Parc".[/vc_column_text][/vc_column][/vc_row]\n 
URL:https://gvdecines.fr/evenement/marche-nordique-du-mardi-lieu-a-definir-2025-11-18/
LOCATION:Parking du gravier blanc\, Parking du gravier blanc\, chemin du gravier blanc\, Decines-Charpieu\, 69150\, France
CATEGORIES:Marche Nordique
END:VEVENT
BEGIN:VEVENT
DTSTART;TZID=Europe/Paris:20251114T190000
DTEND;TZID=Europe/Paris:20251114T235900
DTSTAMP:20260424T073724
CREATED:20250616T133347Z
LAST-MODIFIED:20250623T160203Z
UID:18894-1763146800-1763164740@gvdecines.fr
SUMMARY:AG Saison 2025-2026
DESCRIPTION:
URL:https://gvdecines.fr/evenement/ag-saison-2025-2026/
LOCATION:Mairie de Décines\, Pl. Roger Salengro\, 69150 Décines-Charpieu\, Décines\, 69150\, France
CATEGORIES:Animations
END:VEVENT
BEGIN:VEVENT
DTSTART;TZID=Europe/Paris:20251118T140000
DTEND;TZID=Europe/Paris:20251118T153000
DTSTAMP:20260424T073724
CREATED:20251112T085906Z
LAST-MODIFIED:20251112T090110Z
UID:19669-1763474400-1763479800@gvdecines.fr
SUMMARY:Marche nordique du Mardi : Pont d'Herbens
DESCRIPTION:Rendez vous à 13h50 au point indiqué ci dessous. Le lieu est annoncé 15 jours à l’avance. \nLa séance dure environ une heure et demie\, de 14H00 à 15h30. \nElle commence par un échauffement et se termine par des étirements. \n[vc_row][vc_column][vc_column_text]Attention : En cas de crue\, le guet du Morlet qui permet de rejoindre les sites "Baraka" et "Pont de Miribel" depuis l’intérieur du parc peut être fermé.\nUn autre accès est possible par l'A46 direction Genève\, prendre la première sortie " Parc de Miribel" après la bifurcation.\n\nRenseignements en direct sur la page du grand parc : Carte des accès fermés du Grand Parc".[/vc_column_text][/vc_column][/vc_row]
URL:https://gvdecines.fr/evenement/marche-nordique-du-mardi-pont-dherbens-2/
LOCATION:Pont d’Herbens\, Pont d'Herbens\, Meyzieu\, 69330\, France
CATEGORIES:Marche Nordique
END:VEVENT
BEGIN:VEVENT
DTSTART;TZID=Europe/Paris:20251120T140000
DTEND;TZID=Europe/Paris:20251120T153000
DTSTAMP:20260424T073724
CREATED:20251112T090000Z
LAST-MODIFIED:20251112T090031Z
UID:19671-1763647200-1763652600@gvdecines.fr
SUMMARY:Marche nordique du Jeudi : Pont d'Herbens
DESCRIPTION:Rendez vous à 13h50 au point indiqué ci dessous. Le lieu est annoncé 15 jours à l’avance. \nLa séance dure environ une heure et demie\, de 14H00 à 15h30. \nElle commence par un échauffement et se termine par des étirements. \n[vc_row][vc_column][vc_column_text]Attention : En cas de crue\, le guet du Morlet qui permet de rejoindre les sites "Baraka" et "Pont de Miribel" depuis l’intérieur du parc peut être fermé.\nUn autre accès est possible par l'A46 direction Genève\, prendre la première sortie " Parc de Miribel" après la bifurcation.\n\nRenseignements en direct sur la page du grand parc : Carte des accès fermés du Grand Parc".[/vc_column_text][/vc_column][/vc_row]
URL:https://gvdecines.fr/evenement/marche-nordique-du-jeudi-pont-dherbens-3/
LOCATION:Pont d’Herbens\, Pont d'Herbens\, Meyzieu\, 69330\, France
CATEGORIES:Marche Nordique
END:VEVENT
BEGIN:VEVENT
DTSTART;TZID=Europe/Paris:20251125T131500
DTEND;TZID=Europe/Paris:20251125T163000
DTSTAMP:20260424T073724
CREATED:20251029T080521Z
LAST-MODIFIED:20251029T080521Z
UID:19640-1764076500-1764088200@gvdecines.fr
SUMMARY:Balade :
DESCRIPTION:Inscriptions auprès d’Armandet Danielle par téléphone ou SMS au 07 72 44 47 58. \nCovoiturage : 2€ \nRendez-vous à 13h15 sur le parking de la place Henri Barbusse pour un départ à 13h30. \nCes balades sont organisées par Armand et Danielle Basso les mardis après-midi\, une fois par quinzaine. Elles durent environ 3 heures\, couvrent moins de 10 km et comportent peu ou pas de dénivelé. \nRemarque : Si vous n’avez pas marché depuis longtemps et que vous vous questionnez sur votre capacité à participer à une randonnée à la journée\, ces balades sont idéales pour évaluer votre niveau en début de saison. \n 
URL:https://gvdecines.fr/evenement/balade-5/
LOCATION:Parking Henri Barbusse\, Pl. Henri Barbusse\, Décines\, 69150\, France
CATEGORIES:Balades
END:VEVENT
BEGIN:VEVENT
DTSTART;TZID=Europe/Paris:20251125T140000
DTEND;TZID=Europe/Paris:20251125T153000
DTSTAMP:20260424T073724
CREATED:20251118T155035Z
LAST-MODIFIED:20251118T155112Z
UID:19693-1764079200-1764084600@gvdecines.fr
SUMMARY:Marche nordique du Mardi : Pont de Jonage
DESCRIPTION:Rendez vous à 13h50 au point indiqué ci dessous. Le lieu est annoncé 15 jours à l’avance. \nLa séance dure environ une heure et demie\, de 14H00 à 15h30. \nElle commence par un échauffement et se termine par des étirements. \n[vc_row][vc_column][vc_column_text]Attention : En cas de crue\, le guet du Morlet qui permet de rejoindre les sites "Baraka" et "Pont de Miribel" depuis l’intérieur du parc peut être fermé.\nUn autre accès est possible par l'A46 direction Genève\, prendre la première sortie " Parc de Miribel" après la bifurcation.\n\nRenseignements en direct sur la page du grand parc : Carte des accès fermés du Grand Parc".[/vc_column_text][/vc_column][/vc_row]
URL:https://gvdecines.fr/evenement/marche-nordique-du-mardi-pont-de-jonage-2/
LOCATION:Pont de Jonage\, pont de Jonage\, Jonage\, 69330\, France
CATEGORIES:Marche Nordique
END:VEVENT
BEGIN:VEVENT
DTSTART;TZID=Europe/Paris:20251127T140000
DTEND;TZID=Europe/Paris:20251127T153000
DTSTAMP:20260424T073724
CREATED:20251118T155326Z
LAST-MODIFIED:20251118T155326Z
UID:19697-1764252000-1764257400@gvdecines.fr
SUMMARY:Marche nordique du Jeudi : Pont de Jonage
DESCRIPTION:Rendez vous à 13h50 au point indiqué ci dessous. Le lieu est annoncé 15 jours à l’avance. \nLa séance dure environ une heure et demie\, de 14H00 à 15h30. \nElle commence par un échauffement et se termine par des étirements. \n[vc_row][vc_column][vc_column_text]Attention : En cas de crue\, le guet du Morlet qui permet de rejoindre les sites "Baraka" et "Pont de Miribel" depuis l’intérieur du parc peut être fermé.\nUn autre accès est possible par l'A46 direction Genève\, prendre la première sortie " Parc de Miribel" après la bifurcation.\n\nRenseignements en direct sur la page du grand parc : Carte des accès fermés du Grand Parc".[/vc_column_text][/vc_column][/vc_row]
URL:https://gvdecines.fr/evenement/marche-nordique-du-jeudi-pont-de-jonage-2/
LOCATION:Pont de Jonage\, pont de Jonage\, Jonage\, 69330\, France
CATEGORIES:Marche Nordique
END:VEVENT
END:VCALENDAR