BEGIN:VCALENDAR
VERSION:2.0
PRODID:-//GV DECINES - ECPv6.15.13//NONSGML v1.0//EN
CALSCALE:GREGORIAN
METHOD:PUBLISH
X-WR-CALNAME:GV DECINES
X-ORIGINAL-URL:https://gvdecines.fr
X-WR-CALDESC:Évènements pour GV DECINES
REFRESH-INTERVAL;VALUE=DURATION:PT1H
X-Robots-Tag:noindex
X-PUBLISHED-TTL:PT1H
BEGIN:VTIMEZONE
TZID:Europe/Paris
BEGIN:DAYLIGHT
TZOFFSETFROM:+0100
TZOFFSETTO:+0200
TZNAME:CEST
DTSTART:20250330T010000
END:DAYLIGHT
BEGIN:STANDARD
TZOFFSETFROM:+0200
TZOFFSETTO:+0100
TZNAME:CET
DTSTART:20251026T010000
END:STANDARD
BEGIN:DAYLIGHT
TZOFFSETFROM:+0100
TZOFFSETTO:+0200
TZNAME:CEST
DTSTART:20260329T010000
END:DAYLIGHT
BEGIN:STANDARD
TZOFFSETFROM:+0200
TZOFFSETTO:+0100
TZNAME:CET
DTSTART:20261025T010000
END:STANDARD
BEGIN:DAYLIGHT
TZOFFSETFROM:+0100
TZOFFSETTO:+0200
TZNAME:CEST
DTSTART:20270328T010000
END:DAYLIGHT
BEGIN:STANDARD
TZOFFSETFROM:+0200
TZOFFSETTO:+0100
TZNAME:CET
DTSTART:20271031T010000
END:STANDARD
END:VTIMEZONE
BEGIN:VEVENT
DTSTART;TZID=Europe/Paris:20260518T100000
DTEND;TZID=Europe/Paris:20260518T100000
DTSTAMP:20260423T074951
CREATED:20260206T130110Z
LAST-MODIFIED:20260414T063712Z
UID:20050-1779098400-1779098400@gvdecines.fr
SUMMARY:Visite Commentée de la Croix Rousse Groupe A : 10h00
DESCRIPTION:​
URL:https://gvdecines.fr/evenement/visite-commentee-de-la-croix-rousse/
LOCATION:Croix rousse\, 45° 46′ 46″ nord\, 4° 49′ 39″ est\, Lyon\, 69004\, France
END:VEVENT
BEGIN:VEVENT
DTSTART;TZID=Europe/Paris:20260518T153000
DTEND;TZID=Europe/Paris:20260518T173000
DTSTAMP:20260423T074951
CREATED:20260414T063626Z
LAST-MODIFIED:20260414T063626Z
UID:20182-1779118200-1779125400@gvdecines.fr
SUMMARY:Visite Commentée de la Croix Rousse Groupe B : 15h30
DESCRIPTION:​
URL:https://gvdecines.fr/evenement/visite-commentee-de-la-croix-rousse-groupe-b-15h30/
LOCATION:Croix rousse\, 45° 46′ 46″ nord\, 4° 49′ 39″ est\, Lyon\, 69004\, France
END:VEVENT
END:VCALENDAR